BEGIN:VCALENDAR
VERSION:2.0
PRODID:-//Gemeinde Brokstedt - ECPv6.15.20//NONSGML v1.0//EN
CALSCALE:GREGORIAN
METHOD:PUBLISH
X-ORIGINAL-URL:https://www.gemeinde-brokstedt.de
X-WR-CALDESC:Veranstaltungen für Gemeinde Brokstedt
REFRESH-INTERVAL;VALUE=DURATION:PT1H
X-Robots-Tag:noindex
X-PUBLISHED-TTL:PT1H
BEGIN:VTIMEZONE
TZID:Europe/Berlin
BEGIN:DAYLIGHT
TZOFFSETFROM:+0100
TZOFFSETTO:+0200
TZNAME:CEST
DTSTART:20220327T010000
END:DAYLIGHT
BEGIN:STANDARD
TZOFFSETFROM:+0200
TZOFFSETTO:+0100
TZNAME:CET
DTSTART:20221030T010000
END:STANDARD
BEGIN:DAYLIGHT
TZOFFSETFROM:+0100
TZOFFSETTO:+0200
TZNAME:CEST
DTSTART:20230326T010000
END:DAYLIGHT
BEGIN:STANDARD
TZOFFSETFROM:+0200
TZOFFSETTO:+0100
TZNAME:CET
DTSTART:20231029T010000
END:STANDARD
BEGIN:DAYLIGHT
TZOFFSETFROM:+0100
TZOFFSETTO:+0200
TZNAME:CEST
DTSTART:20240331T010000
END:DAYLIGHT
BEGIN:STANDARD
TZOFFSETFROM:+0200
TZOFFSETTO:+0100
TZNAME:CET
DTSTART:20241027T010000
END:STANDARD
END:VTIMEZONE
BEGIN:VEVENT
DTSTART;TZID=Europe/Berlin:20231231T220000
DTEND;TZID=Europe/Berlin:20231231T220000
DTSTAMP:20260421T084318
CREATED:20231211T081527Z
LAST-MODIFIED:20231211T082013Z
UID:7003-1704060000-1704060000@www.gemeinde-brokstedt.de
SUMMARY:Silvester Lasershow
DESCRIPTION:
URL:https://www.gemeinde-brokstedt.de/event/silvester-lasershow/
LOCATION:Auf dem Sportplatz
CATEGORIES:Allgemein,Open Air
END:VEVENT
END:VCALENDAR