BEGIN:VCALENDAR
VERSION:2.0
PRODID:-//Gemeinde Brokstedt - ECPv6.15.20//NONSGML v1.0//EN
CALSCALE:GREGORIAN
METHOD:PUBLISH
X-ORIGINAL-URL:https://www.gemeinde-brokstedt.de
X-WR-CALDESC:Veranstaltungen für Gemeinde Brokstedt
REFRESH-INTERVAL;VALUE=DURATION:PT1H
X-Robots-Tag:noindex
X-PUBLISHED-TTL:PT1H
BEGIN:VTIMEZONE
TZID:Europe/Berlin
BEGIN:DAYLIGHT
TZOFFSETFROM:+0100
TZOFFSETTO:+0200
TZNAME:CEST
DTSTART:20230326T010000
END:DAYLIGHT
BEGIN:STANDARD
TZOFFSETFROM:+0200
TZOFFSETTO:+0100
TZNAME:CET
DTSTART:20231029T010000
END:STANDARD
BEGIN:DAYLIGHT
TZOFFSETFROM:+0100
TZOFFSETTO:+0200
TZNAME:CEST
DTSTART:20240331T010000
END:DAYLIGHT
BEGIN:STANDARD
TZOFFSETFROM:+0200
TZOFFSETTO:+0100
TZNAME:CET
DTSTART:20241027T010000
END:STANDARD
BEGIN:DAYLIGHT
TZOFFSETFROM:+0100
TZOFFSETTO:+0200
TZNAME:CEST
DTSTART:20250330T010000
END:DAYLIGHT
BEGIN:STANDARD
TZOFFSETFROM:+0200
TZOFFSETTO:+0100
TZNAME:CET
DTSTART:20251026T010000
END:STANDARD
END:VTIMEZONE
BEGIN:VEVENT
DTSTART;TZID=Europe/Berlin:20240420T200000
DTEND;TZID=Europe/Berlin:20240420T220000
DTSTAMP:20260421T054614
CREATED:20240207T073207Z
LAST-MODIFIED:20240207T073207Z
UID:7199-1713643200-1713650400@www.gemeinde-brokstedt.de
SUMMARY:MiLe  präsentiert : Politisches Kabarett - Josefine Gartner
DESCRIPTION:Nichts und niemand bleibt verschont\, wenn die bayerische  Kabarettistin Josefine Gartner die Bühne entert und ihr neues Programm: \n  \n„Denk-mal-geschützt!“ \npräsentiert. \n  \nVieles gibt es zu bedenken:  \nDürfte der Stier entscheiden\, gäbe es dann Ochsen? \nÄrgern sich Menschen auf dem Sterbebett\, dass sie nicht mehr Zeit auf Facebook verbracht haben? \nWie kommt Expertise in die Ministerien? \nWer ist die Nadelstreifenmafia? \nIst Draußen das neue Drinnen? \nOder einfach nur  „Deppat “ das neue „Gscheid“. \n  \nOb politisch engagiert und klug entlarvend oder ob naiv-heiter und  satirisch böse:  \nJosefine Gartner\, ihre Bühnenschwester Hilde und ihr Quotenmann Franz  lassen keine Fragen offen.  \nWie immer werden alle Figuren von der Kabarettistin selbst verkörpert. \nEine unschlagbare Kombination: spannungsreich\, komisch\, schräg und garantiert schwindelfrei. \n  \nFreuen Sie sich auf einen unterhaltsamen und denk-würdigen Kabarettabend. \n 
URL:https://www.gemeinde-brokstedt.de/event/mile-praesentiert-politisches-kabarett-josefine-gartner/
LOCATION:KulturTraum im Plietschhuus\, Schulstraße 11\, Brokstedt
CATEGORIES:Kabarett,Kultur
ATTACH;FMTTYPE=application/pdf:https://www.gemeinde-brokstedt.de/wp-content/uploads/2024/02/Plakat-josefine-gartner-2024.pdf
END:VEVENT
END:VCALENDAR