BEGIN:VCALENDAR
VERSION:2.0
PRODID:-//Gemeinde Brokstedt - ECPv6.15.20//NONSGML v1.0//EN
CALSCALE:GREGORIAN
METHOD:PUBLISH
X-ORIGINAL-URL:https://www.gemeinde-brokstedt.de
X-WR-CALDESC:Veranstaltungen für Gemeinde Brokstedt
REFRESH-INTERVAL;VALUE=DURATION:PT1H
X-Robots-Tag:noindex
X-PUBLISHED-TTL:PT1H
BEGIN:VTIMEZONE
TZID:Europe/Berlin
BEGIN:DAYLIGHT
TZOFFSETFROM:+0100
TZOFFSETTO:+0200
TZNAME:CEST
DTSTART:20220327T010000
END:DAYLIGHT
BEGIN:STANDARD
TZOFFSETFROM:+0200
TZOFFSETTO:+0100
TZNAME:CET
DTSTART:20221030T010000
END:STANDARD
BEGIN:DAYLIGHT
TZOFFSETFROM:+0100
TZOFFSETTO:+0200
TZNAME:CEST
DTSTART:20230326T010000
END:DAYLIGHT
BEGIN:STANDARD
TZOFFSETFROM:+0200
TZOFFSETTO:+0100
TZNAME:CET
DTSTART:20231029T010000
END:STANDARD
BEGIN:DAYLIGHT
TZOFFSETFROM:+0100
TZOFFSETTO:+0200
TZNAME:CEST
DTSTART:20240331T010000
END:DAYLIGHT
BEGIN:STANDARD
TZOFFSETFROM:+0200
TZOFFSETTO:+0100
TZNAME:CET
DTSTART:20241027T010000
END:STANDARD
END:VTIMEZONE
BEGIN:VEVENT
DTSTART;TZID=Europe/Berlin:20231202T200000
DTEND;TZID=Europe/Berlin:20231202T223000
DTSTAMP:20260425T175358
CREATED:20231110T104201Z
LAST-MODIFIED:20231110T112157Z
UID:6909-1701547200-1701556200@www.gemeinde-brokstedt.de
SUMMARY:MiLe KulturTraum- Politisches Kabarett Sebastian Schnoy
DESCRIPTION:Kultur(T)Raum. Sebastian Schnoy\n\n\n2. Dezember 2023 20:00\n Plietschhuus – Schulstr. 11\, 24616 Brokstedt\n\n\nTelefon\n043241781\n\n\nE-Mail\nkarten@mile-brokstedt.de\n\n\n\n\n\n\n\n\n\n „Mehr Idiotie wagen! – “Preisgekröntes Kabarett und humoristische Vorträge\n\n\n\n\n\n\n\n\n\n\n\n\n\n\n\nSchnoy ist ein Arbeiterkind aus dem Osten Hamburgs\, das Dank seines Fleißes nach Blankenese umziehen konnte. Als Wanderer zwischen den gesellschaftlichen Schichten hat er besonders feine Ohren für die Lügen aller politischen Lager und ihrer Lust an Projektionen. Die Natur ist dort am schönsten\, wo man sie nur zur Erholung aufsuchen muss. Der Sozialismus ist am verheißungsvollsten\, wenn man über ihn mit dem iPhone twittern kann. Verzicht macht Spaß\, wenn man alles jederzeit haben kann. Wider besseren Wissens bleibt‘s dabei\, denn eine Ideologie stirbt nie.\n\n\n\n\n\nSchnoys visionäre Auftritte bringen das Publikum zum Nachdenken: Russland in die Nato\, Türkei und Tunesien in die EU und Abschaffung der Nationalstaaten in einem vereinten Europa. Reiben Sie sich an seinen Visionen\, beim Arzt war er schon. Lassen Sie sich überzeugen. Wo ein Wille ist\, ist auch ein Irrweg und je größer der Wille\, desto irriger der Weg. Am Ende werden Sie lächelnd sagen: Auch in Wahnsinn steckt Sinn. \n\n\n\nAch und das Wichtigste: Schnoy ist sehr lustig. Sie werden den ganzen Abend lachen. Das ist bezeugt. \n  \nSebastian Schnoy ist vielfach ausgezeichneter Kabarettist\, Keynote Speaker\, Moderator und Buchautor. Rund 130-mal im Jahr steht er in Theatern\, bei Kongressen und bei Veranstaltungen von Unternehmen und Ministerien auf der Bühne. \nSeine Programme\, in denen er Politisches in Verbindung mit Geschichte humorvoll beleuchtet\, hat er erfolgreich in seinen Büchern aufbereitet. Drei seiner Werke waren Spiegel-Bestseller. \nOb auf der Bühne oder im Buch: Europa ist seine Leidenschaft – auf historischer und politischer Ebene. Deswegen fordert Sebastian Schnoy die Vereinigten Staaten von Europa! \nEinlass ist ab 19.00 Uhr \nDer Eintritt ist frei\, wir bitten um eine Spende.
URL:https://www.gemeinde-brokstedt.de/event/mile-kulturtraum-politisches-kabarett-sebastian-schnoy/
LOCATION:KulturTraum im Plietschhuus\, Schulstraße 11\, Brokstedt
CATEGORIES:Kultur
ATTACH;FMTTYPE=image/jpeg:https://www.gemeinde-brokstedt.de/wp-content/uploads/2023/11/41a402c8-a3ff-481e-985b-fcf82f593a44.jpeg
END:VEVENT
END:VCALENDAR