BEGIN:VCALENDAR
VERSION:2.0
PRODID:-//Gemeinde Brokstedt - ECPv6.15.20//NONSGML v1.0//EN
CALSCALE:GREGORIAN
METHOD:PUBLISH
X-WR-CALNAME:Gemeinde Brokstedt
X-ORIGINAL-URL:https://www.gemeinde-brokstedt.de
X-WR-CALDESC:Veranstaltungen für Gemeinde Brokstedt
REFRESH-INTERVAL;VALUE=DURATION:PT1H
X-Robots-Tag:noindex
X-PUBLISHED-TTL:PT1H
BEGIN:VTIMEZONE
TZID:Europe/Berlin
BEGIN:DAYLIGHT
TZOFFSETFROM:+0100
TZOFFSETTO:+0200
TZNAME:CEST
DTSTART:20230326T010000
END:DAYLIGHT
BEGIN:STANDARD
TZOFFSETFROM:+0200
TZOFFSETTO:+0100
TZNAME:CET
DTSTART:20231029T010000
END:STANDARD
BEGIN:DAYLIGHT
TZOFFSETFROM:+0100
TZOFFSETTO:+0200
TZNAME:CEST
DTSTART:20240331T010000
END:DAYLIGHT
BEGIN:STANDARD
TZOFFSETFROM:+0200
TZOFFSETTO:+0100
TZNAME:CET
DTSTART:20241027T010000
END:STANDARD
BEGIN:DAYLIGHT
TZOFFSETFROM:+0100
TZOFFSETTO:+0200
TZNAME:CEST
DTSTART:20250330T010000
END:DAYLIGHT
BEGIN:STANDARD
TZOFFSETFROM:+0200
TZOFFSETTO:+0100
TZNAME:CET
DTSTART:20251026T010000
END:STANDARD
END:VTIMEZONE
BEGIN:VEVENT
DTSTART;TZID=Europe/Berlin:20240309T200000
DTEND;TZID=Europe/Berlin:20240309T220000
DTSTAMP:20260422T154329
CREATED:20240206T140920Z
LAST-MODIFIED:20240305T201709Z
UID:7194-1710014400-1710021600@www.gemeinde-brokstedt.de
SUMMARY:MiLe präsentiert: Millstreet Blues Band  - Konzert im KulturTraum
DESCRIPTION:70iger-jahre Blues und Rock \nDie Keimzelle der Millstreet Blues Band liegt in Kellinghusen. Ursprünglich hatte sich die Formation dem Chicago-Blues und dem 70iger Jahre Bluesrock verschrieben. Wie es denn aber so ist wechselte die Besetzung immer einmal wieder. Dem ursprünglichen Stil huldigen die Musiker nach wie vor\, aber mit den neuen „Kräften“ hat sich dann das Repertoire um Rocktitel\, vornehmlich aus den 60igern und 70igern\, deutlich erweitert. Da auch einige sehr bekannte Titel zum Programm gehören\, tritt die Band musikalisch breit gefächert auf. Hierzu ein Ausschnitt aus der Presse vom letzten Auftritt in Schleswig: \n  \nDie Band hat einige bekannte Songs gemischt mit ihrer Leidenschaft: dem Blues. So kamen neben dem Roadhouse Blues auch Gimme Shelter von den Stones \, Suzie Q von CCR und Sultans of Swing von den Dire Straits zu gehör. Gerade Sultans of Swing hatte es dem Redakteur angetan. Das wurde sehr gut interpretiert… Respekt. an den Gitarristen . Insgesamt muss man sagen\, war es ein guter Auftritt dieser Band aus dem Holsteinischen. \nDie Millstreet Blues Band freut sich sehr auf ihren Auftritt hier bei MiLe in Brokstedt. Die Band besteht aus Peter Burkhard (Bass und Gesang)\, Bernd Makoschey (Schlagzeug)\, Jürgen Hirschbiegel (Gitarre\, Bluesharp und Gesang)\, Udo Kompenhans (Gitarre) und Klaus Röller (Gitarre\, Keyboard und Leadgesang). \n  \nEintritt frei – Einlass 19:00h – Beginn 20:00h  – HUTGAGE
URL:https://www.gemeinde-brokstedt.de/event/millstreet-blues-band-konzert-im-kulturtraum/
LOCATION:KulturTraum im Plietschhuus\, Schulstraße 11\, Brokstedt
CATEGORIES:Konzert,Kultur
END:VEVENT
END:VCALENDAR